BEGIN:VCALENDAR
VERSION:2.0
PRODID:-//Next Steps Forward - ECPv6.15.20//NONSGML v1.0//EN
CALSCALE:GREGORIAN
METHOD:PUBLISH
X-ORIGINAL-URL:https://nextstepsforward.com
X-WR-CALDESC:Events for Next Steps Forward
REFRESH-INTERVAL;VALUE=DURATION:PT1H
X-Robots-Tag:noindex
X-PUBLISHED-TTL:PT1H
BEGIN:VTIMEZONE
TZID:UTC
BEGIN:STANDARD
TZOFFSETFROM:+0000
TZOFFSETTO:+0000
TZNAME:UTC
DTSTART:20240101T000000
END:STANDARD
END:VTIMEZONE
BEGIN:VEVENT
DTSTART;VALUE=DATE:20251104
DTEND;VALUE=DATE:20251105
DTSTAMP:20260426T001704
CREATED:20250514T093044Z
LAST-MODIFIED:20250514T093146Z
UID:3971-1762214400-1762300799@nextstepsforward.com
SUMMARY:Grace Shirley
DESCRIPTION:
URL:https://nextstepsforward.com/event/grace-shirley/
CATEGORIES:Upcoming Shows
END:VEVENT
BEGIN:VEVENT
DTSTART;VALUE=DATE:20251111
DTEND;VALUE=DATE:20251112
DTSTAMP:20260426T001704
CREATED:20250514T093222Z
LAST-MODIFIED:20251023T171907Z
UID:3973-1762819200-1762905599@nextstepsforward.com
SUMMARY:Lori Atwood
DESCRIPTION:
URL:https://nextstepsforward.com/event/lori-atwood/
CATEGORIES:Upcoming Shows
END:VEVENT
BEGIN:VEVENT
DTSTART;VALUE=DATE:20251118
DTEND;VALUE=DATE:20251119
DTSTAMP:20260426T001704
CREATED:20250514T093246Z
LAST-MODIFIED:20251023T171922Z
UID:3975-1763424000-1763510399@nextstepsforward.com
SUMMARY:Katina Sawyer
DESCRIPTION:
URL:https://nextstepsforward.com/event/katina-sawyer/
CATEGORIES:Upcoming Shows
END:VEVENT
BEGIN:VEVENT
DTSTART;VALUE=DATE:20251125
DTEND;VALUE=DATE:20251126
DTSTAMP:20260426T001704
CREATED:20251023T171952Z
LAST-MODIFIED:20251023T172018Z
UID:4169-1764028800-1764115199@nextstepsforward.com
SUMMARY:Josh Hartzell
DESCRIPTION:
URL:https://nextstepsforward.com/event/josh-hartzell/
CATEGORIES:Upcoming Shows
END:VEVENT
END:VCALENDAR