BEGIN:VCALENDAR
VERSION:2.0
PRODID:-//Next Steps Forward - ECPv6.15.20//NONSGML v1.0//EN
CALSCALE:GREGORIAN
METHOD:PUBLISH
X-WR-CALNAME:Next Steps Forward
X-ORIGINAL-URL:https://nextstepsforward.com
X-WR-CALDESC:Events for Next Steps Forward
REFRESH-INTERVAL;VALUE=DURATION:PT1H
X-Robots-Tag:noindex
X-PUBLISHED-TTL:PT1H
BEGIN:VTIMEZONE
TZID:UTC
BEGIN:STANDARD
TZOFFSETFROM:+0000
TZOFFSETTO:+0000
TZNAME:UTC
DTSTART:20240101T000000
END:STANDARD
END:VTIMEZONE
BEGIN:VEVENT
DTSTART;VALUE=DATE:20250902
DTEND;VALUE=DATE:20250903
DTSTAMP:20260422T055105
CREATED:20250514T092525Z
LAST-MODIFIED:20250514T092525Z
UID:3953-1756771200-1756857599@nextstepsforward.com
SUMMARY:Henry Oliver
DESCRIPTION:
URL:https://nextstepsforward.com/event/henry-oliver/
CATEGORIES:Upcoming Shows
END:VEVENT
BEGIN:VEVENT
DTSTART;VALUE=DATE:20250909
DTEND;VALUE=DATE:20250910
DTSTAMP:20260422T055105
CREATED:20250514T092549Z
LAST-MODIFIED:20250514T092549Z
UID:3955-1757376000-1757462399@nextstepsforward.com
SUMMARY:Kristen Breitweiser/Patricia Ryan
DESCRIPTION:
URL:https://nextstepsforward.com/event/kristen-breitweiser-patricia-ryan/
CATEGORIES:Upcoming Shows
END:VEVENT
BEGIN:VEVENT
DTSTART;VALUE=DATE:20250916
DTEND;VALUE=DATE:20250917
DTSTAMP:20260422T055105
CREATED:20250514T092619Z
LAST-MODIFIED:20250514T092619Z
UID:3957-1757980800-1758067199@nextstepsforward.com
SUMMARY:Kenneth Feinberg
DESCRIPTION:
URL:https://nextstepsforward.com/event/kenneth-feinberg/
CATEGORIES:Upcoming Shows
END:VEVENT
BEGIN:VEVENT
DTSTART;VALUE=DATE:20250923
DTEND;VALUE=DATE:20250924
DTSTAMP:20260422T055105
CREATED:20250514T092649Z
LAST-MODIFIED:20250918T224552Z
UID:3959-1758585600-1758671999@nextstepsforward.com
SUMMARY:Tim Currie
DESCRIPTION:
URL:https://nextstepsforward.com/event/tim-currie/
CATEGORIES:Upcoming Shows
END:VEVENT
BEGIN:VEVENT
DTSTART;VALUE=DATE:20250930
DTEND;VALUE=DATE:20251001
DTSTAMP:20260422T055105
CREATED:20250514T092749Z
LAST-MODIFIED:20250514T092749Z
UID:3961-1759190400-1759276799@nextstepsforward.com
SUMMARY:Sophia Mullins
DESCRIPTION:
URL:https://nextstepsforward.com/event/sophia-mullins/
CATEGORIES:Upcoming Shows
END:VEVENT
END:VCALENDAR