BEGIN:VCALENDAR
VERSION:2.0
PRODID:-//Next Steps Forward - ECPv6.15.20//NONSGML v1.0//EN
CALSCALE:GREGORIAN
METHOD:PUBLISH
X-ORIGINAL-URL:https://nextstepsforward.com
X-WR-CALDESC:Events for Next Steps Forward
REFRESH-INTERVAL;VALUE=DURATION:PT1H
X-Robots-Tag:noindex
X-PUBLISHED-TTL:PT1H
BEGIN:VTIMEZONE
TZID:UTC
BEGIN:STANDARD
TZOFFSETFROM:+0000
TZOFFSETTO:+0000
TZNAME:UTC
DTSTART:20210101T000000
END:STANDARD
END:VTIMEZONE
BEGIN:VEVENT
DTSTART;VALUE=DATE:20220802
DTEND;VALUE=DATE:20220803
DTSTAMP:20260425T102503
CREATED:20220616T153457Z
LAST-MODIFIED:20220616T153457Z
UID:1594-1659398400-1659484799@nextstepsforward.com
SUMMARY:Ayman Mukerji Househam
DESCRIPTION:
URL:https://nextstepsforward.com/event/ayman-mukerji-househam/
CATEGORIES:Upcoming Shows
END:VEVENT
BEGIN:VEVENT
DTSTART;VALUE=DATE:20220809
DTEND;VALUE=DATE:20220810
DTSTAMP:20260425T102503
CREATED:20220616T153522Z
LAST-MODIFIED:20220616T153522Z
UID:1596-1660003200-1660089599@nextstepsforward.com
SUMMARY:Heather Fischer
DESCRIPTION:
URL:https://nextstepsforward.com/event/heather-fischer/
CATEGORIES:Upcoming Shows
END:VEVENT
BEGIN:VEVENT
DTSTART;VALUE=DATE:20220816
DTEND;VALUE=DATE:20220817
DTSTAMP:20260425T102503
CREATED:20220616T154737Z
LAST-MODIFIED:20220616T154737Z
UID:1598-1660608000-1660694399@nextstepsforward.com
SUMMARY:Bryce Cherryholmes
DESCRIPTION:
URL:https://nextstepsforward.com/event/bryce-cherryholmes/
CATEGORIES:Upcoming Shows
END:VEVENT
BEGIN:VEVENT
DTSTART;VALUE=DATE:20220823
DTEND;VALUE=DATE:20220824
DTSTAMP:20260425T102503
CREATED:20220616T154802Z
LAST-MODIFIED:20220616T154802Z
UID:1601-1661212800-1661299199@nextstepsforward.com
SUMMARY:Ray Scott
DESCRIPTION:
URL:https://nextstepsforward.com/event/ray-scott/
CATEGORIES:Upcoming Shows
END:VEVENT
BEGIN:VEVENT
DTSTART;VALUE=DATE:20220830
DTEND;VALUE=DATE:20220831
DTSTAMP:20260425T102503
CREATED:20220823T203505Z
LAST-MODIFIED:20220823T203505Z
UID:1905-1661817600-1661903999@nextstepsforward.com
SUMMARY:Lyla Kohistany
DESCRIPTION:
URL:https://nextstepsforward.com/event/lyla-kohistany/
CATEGORIES:Upcoming Shows
END:VEVENT
END:VCALENDAR