BEGIN:VCALENDAR
VERSION:2.0
PRODID:-//Next Steps Forward - ECPv6.15.20//NONSGML v1.0//EN
CALSCALE:GREGORIAN
METHOD:PUBLISH
X-WR-CALNAME:Next Steps Forward
X-ORIGINAL-URL:https://nextstepsforward.com
X-WR-CALDESC:Events for Next Steps Forward
REFRESH-INTERVAL;VALUE=DURATION:PT1H
X-Robots-Tag:noindex
X-PUBLISHED-TTL:PT1H
BEGIN:VTIMEZONE
TZID:UTC
BEGIN:STANDARD
TZOFFSETFROM:+0000
TZOFFSETTO:+0000
TZNAME:UTC
DTSTART:20210101T000000
END:STANDARD
END:VTIMEZONE
BEGIN:VEVENT
DTSTART;VALUE=DATE:20220705
DTEND;VALUE=DATE:20220706
DTSTAMP:20260425T102231
CREATED:20220616T153356Z
LAST-MODIFIED:20220616T154837Z
UID:1588-1656979200-1657065599@nextstepsforward.com
SUMMARY:Yvette Benavidez Garcia
DESCRIPTION:
URL:https://nextstepsforward.com/event/yvette-benavidez-garcia/
CATEGORIES:Upcoming Shows
END:VEVENT
BEGIN:VEVENT
DTSTART;VALUE=DATE:20220712
DTEND;VALUE=DATE:20220713
DTSTAMP:20260425T102231
CREATED:20220616T153420Z
LAST-MODIFIED:20220616T153420Z
UID:1590-1657584000-1657670399@nextstepsforward.com
SUMMARY:Tana Goertz
DESCRIPTION:
URL:https://nextstepsforward.com/event/tana-goertz/
CATEGORIES:Upcoming Shows
END:VEVENT
BEGIN:VEVENT
DTSTART;VALUE=DATE:20220719
DTEND;VALUE=DATE:20220720
DTSTAMP:20260425T102231
CREATED:20220616T153437Z
LAST-MODIFIED:20220616T153437Z
UID:1592-1658188800-1658275199@nextstepsforward.com
SUMMARY:Ellen Beckjord
DESCRIPTION:
URL:https://nextstepsforward.com/event/ellen-beckjord/
CATEGORIES:Upcoming Shows
END:VEVENT
BEGIN:VEVENT
DTSTART;VALUE=DATE:20220726
DTEND;VALUE=DATE:20220727
DTSTAMP:20260425T102231
CREATED:20220426T133350Z
LAST-MODIFIED:20220426T133350Z
UID:1476-1658793600-1658879999@nextstepsforward.com
SUMMARY:Lynda Gratton
DESCRIPTION:
URL:https://nextstepsforward.com/event/lynda-gratton/
CATEGORIES:Upcoming Shows
END:VEVENT
END:VCALENDAR