BEGIN:VCALENDAR
VERSION:2.0
PRODID:-//Next Steps Forward - ECPv6.15.20//NONSGML v1.0//EN
CALSCALE:GREGORIAN
METHOD:PUBLISH
X-ORIGINAL-URL:https://nextstepsforward.com
X-WR-CALDESC:Events for Next Steps Forward
REFRESH-INTERVAL;VALUE=DURATION:PT1H
X-Robots-Tag:noindex
X-PUBLISHED-TTL:PT1H
BEGIN:VTIMEZONE
TZID:UTC
BEGIN:STANDARD
TZOFFSETFROM:+0000
TZOFFSETTO:+0000
TZNAME:UTC
DTSTART:20250101T000000
END:STANDARD
END:VTIMEZONE
BEGIN:VEVENT
DTSTART;VALUE=DATE:20260303
DTEND;VALUE=DATE:20260304
DTSTAMP:20260420T161024
CREATED:20260108T205352Z
LAST-MODIFIED:20260108T205352Z
UID:4241-1772496000-1772582399@nextstepsforward.com
SUMMARY:Marty Dubin
DESCRIPTION:
URL:https://nextstepsforward.com/event/marty-dubin/
CATEGORIES:Upcoming Shows
END:VEVENT
BEGIN:VEVENT
DTSTART;VALUE=DATE:20260310
DTEND;VALUE=DATE:20260311
DTSTAMP:20260420T161024
CREATED:20260108T205618Z
LAST-MODIFIED:20260108T205618Z
UID:4250-1773100800-1773187199@nextstepsforward.com
SUMMARY:Donna Rice Hughes
DESCRIPTION:
URL:https://nextstepsforward.com/event/donna-rice-hughes-2/
CATEGORIES:Upcoming Shows
END:VEVENT
BEGIN:VEVENT
DTSTART;VALUE=DATE:20260317
DTEND;VALUE=DATE:20260318
DTSTAMP:20260420T161024
CREATED:20260108T205633Z
LAST-MODIFIED:20260108T205633Z
UID:4251-1773705600-1773791999@nextstepsforward.com
SUMMARY:Paola Cecchi Dimeglio
DESCRIPTION:
URL:https://nextstepsforward.com/event/paola-cecchi-dimeglio-2/
CATEGORIES:Upcoming Shows
END:VEVENT
BEGIN:VEVENT
DTSTART;VALUE=DATE:20260324
DTEND;VALUE=DATE:20260325
DTSTAMP:20260420T161024
CREATED:20260108T205651Z
LAST-MODIFIED:20260108T205651Z
UID:4252-1774310400-1774396799@nextstepsforward.com
SUMMARY:Capt. Hanna Born
DESCRIPTION:
URL:https://nextstepsforward.com/event/capt-hanna-born/
CATEGORIES:Upcoming Shows
END:VEVENT
BEGIN:VEVENT
DTSTART;VALUE=DATE:20260331
DTEND;VALUE=DATE:20260401
DTSTAMP:20260420T161024
CREATED:20260108T205706Z
LAST-MODIFIED:20260325T142810Z
UID:4253-1774915200-1775001599@nextstepsforward.com
SUMMARY:Dr. Shauna Springer
DESCRIPTION:
URL:https://nextstepsforward.com/event/dr-shauna-springer/
CATEGORIES:Upcoming Shows
END:VEVENT
END:VCALENDAR