BEGIN:VCALENDAR
VERSION:2.0
PRODID:-//Next Steps Forward - ECPv6.15.20//NONSGML v1.0//EN
CALSCALE:GREGORIAN
METHOD:PUBLISH
X-WR-CALNAME:Next Steps Forward
X-ORIGINAL-URL:https://nextstepsforward.com
X-WR-CALDESC:Events for Next Steps Forward
REFRESH-INTERVAL;VALUE=DURATION:PT1H
X-Robots-Tag:noindex
X-PUBLISHED-TTL:PT1H
BEGIN:VTIMEZONE
TZID:UTC
BEGIN:STANDARD
TZOFFSETFROM:+0000
TZOFFSETTO:+0000
TZNAME:UTC
DTSTART:20240101T000000
END:STANDARD
END:VTIMEZONE
BEGIN:VEVENT
DTSTART;VALUE=DATE:20251007
DTEND;VALUE=DATE:20251008
DTSTAMP:20260423T081037
CREATED:20250514T092913Z
LAST-MODIFIED:20250926T141002Z
UID:3963-1759795200-1759881599@nextstepsforward.com
SUMMARY:Maj Gen James Lukeman
DESCRIPTION:
URL:https://nextstepsforward.com/event/gen-jack-lukeman/
CATEGORIES:Upcoming Shows
END:VEVENT
END:VCALENDAR