BEGIN:VCALENDAR
VERSION:2.0
PRODID:-//Next Steps Forward - ECPv6.15.20//NONSGML v1.0//EN
CALSCALE:GREGORIAN
METHOD:PUBLISH
X-ORIGINAL-URL:https://nextstepsforward.com
X-WR-CALDESC:Events for Next Steps Forward
REFRESH-INTERVAL;VALUE=DURATION:PT1H
X-Robots-Tag:noindex
X-PUBLISHED-TTL:PT1H
BEGIN:VTIMEZONE
TZID:UTC
BEGIN:STANDARD
TZOFFSETFROM:+0000
TZOFFSETTO:+0000
TZNAME:UTC
DTSTART:20240101T000000
END:STANDARD
END:VTIMEZONE
BEGIN:VEVENT
DTSTART;VALUE=DATE:20250923
DTEND;VALUE=DATE:20250924
DTSTAMP:20260423T064726
CREATED:20250514T092649Z
LAST-MODIFIED:20250918T224552Z
UID:3959-1758585600-1758671999@nextstepsforward.com
SUMMARY:Tim Currie
DESCRIPTION:
URL:https://nextstepsforward.com/event/tim-currie/
CATEGORIES:Upcoming Shows
END:VEVENT
END:VCALENDAR