BEGIN:VCALENDAR
VERSION:2.0
PRODID:-//Next Steps Forward - ECPv6.15.20//NONSGML v1.0//EN
CALSCALE:GREGORIAN
METHOD:PUBLISH
X-WR-CALNAME:Next Steps Forward
X-ORIGINAL-URL:https://nextstepsforward.com
X-WR-CALDESC:Events for Next Steps Forward
REFRESH-INTERVAL;VALUE=DURATION:PT1H
X-Robots-Tag:noindex
X-PUBLISHED-TTL:PT1H
BEGIN:VTIMEZONE
TZID:UTC
BEGIN:STANDARD
TZOFFSETFROM:+0000
TZOFFSETTO:+0000
TZNAME:UTC
DTSTART:20210101T000000
END:STANDARD
END:VTIMEZONE
BEGIN:VEVENT
DTSTART;VALUE=DATE:20220628
DTEND;VALUE=DATE:20220629
DTSTAMP:20260424T122948
CREATED:20220426T133323Z
LAST-MODIFIED:20220426T133434Z
UID:1474-1656374400-1656460799@nextstepsforward.com
SUMMARY:Dina Zuckerberg
DESCRIPTION:
URL:https://nextstepsforward.com/event/dina-zuckerberg-2/
CATEGORIES:Upcoming Shows
END:VEVENT
END:VCALENDAR